1.52653149251974
0.00000000000000
0.00000000000000
-1.52653149251974
-135456.30324118921999
-194773.20092599047348
