1.52663645257833
0.00000000000000
0.00000000000000
-1.52663645257833
-147810.11400755247450
-208342.54882428492419
