1.52856898817438
0.00000000000000
0.00000000000000
-1.52856898817438
-168628.58161780782393
-166379.18646753672510
