1.52817773190124
0.00000000000000
0.00000000000000
-1.52817773190124
-112874.22770899804891
-167264.03246725545614
