1.52690719016791
0.00000000000000
0.00000000000000
-1.52690719016791
-135079.67059130425332
-166990.98124628985533
