1.52795130141316
0.00000000000000
0.00000000000000
-1.52795130141316
-124175.88000948647095
-181017.62285178623279
