1.52762216889447
0.00000000000000
0.00000000000000
-1.52762216889447
-157786.77614102221560
-194571.93167381081730
