1.52833372602244
0.00000000000000
0.00000000000000
-1.52833372602244
-169134.26499055893510
-194185.06165245908778
