1.52834974950785
0.00000000000000
0.00000000000000
-1.52834974950785
-101856.49872402695473
-181264.35443254539859
