1.52594177232471
0.00000000000000
0.00000000000000
-1.52594177232471
-179969.69346900875098
-180166.28342205783702
