1.52771593788565
0.00000000000000
0.00000000000000
-1.52771593788565
-146281.42379881188390
-166925.64595133817056
