1.52750108896108
0.00000000000000
0.00000000000000
-1.52750108896108
-124383.20415501538082
-194969.10639375145547
