1.52719006474644
0.00000000000000
0.00000000000000
-1.52719006474644
-101652.59986125612340
-195285.78724366941606
