1.52829211402942
0.00000000000000
0.00000000000000
-1.52829211402942
-179682.65176314132987
-166244.38713974543498
