1.52839897540352
0.00000000000000
0.00000000000000
-1.52839897540352
-123823.30868061658111
-167284.83820626058150
