1.52843142677326
0.00000000000000
0.00000000000000
-1.52843142677326
-135467.95479241255089
-181037.08044876091299
