1.52905219272118
0.00000000000000
0.00000000000000
-1.52905219272118
-146767.57549927345826
-194636.40744600951439
