1.52790927298682
0.00000000000000
0.00000000000000
-1.52790927298682
-113176.31821233463415
-195089.53587414053618
