1.52793954917473
0.00000000000000
0.00000000000000
-1.52793954917473
-101632.85521733040514
-167435.08035066499724
