1.52910026346071
0.00000000000000
0.00000000000000
-1.52910026346071
-157758.56893862556899
-180532.92216135744820
