1.52799984935739
0.00000000000000
0.00000000000000
-1.52799984935739
-194756.44055749187828
-110330.78720845803036
