1.52872950635333
0.00000000000000
0.00000000000000
-1.52872950635333
-166551.73461216001306
-55365.14482730552118
