1.52704896647572
0.00000000000000
0.00000000000000
-1.52704896647572
-122354.01909687134321
-55971.16040472726309
