1.52891066609929
0.00000000000000
0.00000000000000
-1.52891066609929
-111584.88747159380000
-84054.12507798521256
