1.52802485221161
0.00000000000000
0.00000000000000
-1.52802485221161
-100224.37196235671581
-56517.55887821727811
