1.52831532272033
0.00000000000000
0.00000000000000
-1.52831532272033
-145248.61766750179231
-97281.27710659930017
