1.52645444951054
0.00000000000000
0.00000000000000
-1.52645444951054
-133903.58284122945042
-97584.11827993583574
