1.52900715016635
0.00000000000000
0.00000000000000
-1.52900715016635
-100567.45799072673253
-84113.72931682113267
