1.52749899227725
0.00000000000000
0.00000000000000
-1.52749899227725
-144650.73439293316915
-69557.20007529533177
