1.52638088335816
0.00000000000000
0.00000000000000
-1.52638088335816
-178326.88022484022076
-96746.12730467694928
