1.52800639733939
0.00000000000000
0.00000000000000
-1.52800639733939
-155808.48373006828479
-69449.52488428802462
