1.52769563396323
0.00000000000000
0.00000000000000
-1.52769563396323
-167288.44522305915598
-96962.81009777204599
