1.52760547709824
0.00000000000000
0.00000000000000
-1.52760547709824
-178077.82684857444838
-82894.70777671197720
