1.52866944067288
0.00000000000000
0.00000000000000
-1.52866944067288
-177480.42878065031255
-54991.02252713766211
