1.52727657511260
0.00000000000000
0.00000000000000
-1.52727657511260
-133856.26245972843026
-83681.01779033763160
