1.52872086349889
0.00000000000000
0.00000000000000
-1.52872086349889
-156065.63981123338453
-83246.74723985110177
