1.52825389521587
0.00000000000000
0.00000000000000
-1.52825389521587
-133346.06495236378396
-55966.77878657605470
