1.52780408098090
0.00000000000000
0.00000000000000
-1.52780408098090
-155556.17930132144829
-55476.10188878669578
