1.52748808814466
0.00000000000000
0.00000000000000
-1.52748808814466
-156292.29441578013939
-97274.92327246500645
