1.52813060634805
0.00000000000000
0.00000000000000
-1.52813060634805
-145037.27186044247355
-83413.46599333701306
