1.52930278966301
0.00000000000000
0.00000000000000
-1.52930278966301
-133525.54252410781919
-69772.72649455207284
