1.52855619598476
0.00000000000000
0.00000000000000
-1.52855619598476
-122851.23314313104493
-83772.89634296302393
