1.52960684176965
0.00000000000000
0.00000000000000
-1.52960684176965
-100364.40527204801037
-70295.12299241185247
