1.52933286591137
0.00000000000000
0.00000000000000
-1.52933286591137
-111427.25799981971795
-70071.22252153392765
