1.52937990317066
0.00000000000000
0.00000000000000
-1.52937990317066
-111802.44755906976934
-97835.08292864650139
