1.52804262453598
0.00000000000000
0.00000000000000
-1.52804262453598
-111157.07222494242887
-56247.89405573986733
