1.52837585962588
0.00000000000000
0.00000000000000
-1.52837585962588
-166663.14038045110647
-69263.97577457112493
