1.52908802329455
0.00000000000000
0.00000000000000
-1.52908802329455
-178002.90961217923905
-68967.96727261134947
