1.53091702387331
0.00000000000000
0.00000000000000
-1.53091702387331
-167117.58353601474664
-82939.34630111741717
