1.52982565096324
0.00000000000000
0.00000000000000
-1.52982565096324
-122565.28041715375730
-69963.88177779135003
